BEGIN:VCALENDAR
VERSION:2.0
PRODID:-//CBI - ECPv6.15.20//NONSGML v1.0//EN
CALSCALE:GREGORIAN
METHOD:PUBLISH
X-ORIGINAL-URL:https://communitybridgesinc.org
X-WR-CALDESC:Events for CBI
REFRESH-INTERVAL;VALUE=DURATION:PT1H
X-Robots-Tag:noindex
X-PUBLISHED-TTL:PT1H
BEGIN:VTIMEZONE
TZID:America/Halifax
BEGIN:DAYLIGHT
TZOFFSETFROM:-0400
TZOFFSETTO:-0300
TZNAME:ADT
DTSTART:20250309T060000
END:DAYLIGHT
BEGIN:STANDARD
TZOFFSETFROM:-0300
TZOFFSETTO:-0400
TZNAME:AST
DTSTART:20251102T050000
END:STANDARD
BEGIN:DAYLIGHT
TZOFFSETFROM:-0400
TZOFFSETTO:-0300
TZNAME:ADT
DTSTART:20260308T060000
END:DAYLIGHT
BEGIN:STANDARD
TZOFFSETFROM:-0300
TZOFFSETTO:-0400
TZNAME:AST
DTSTART:20261101T050000
END:STANDARD
BEGIN:DAYLIGHT
TZOFFSETFROM:-0400
TZOFFSETTO:-0300
TZNAME:ADT
DTSTART:20270314T060000
END:DAYLIGHT
BEGIN:STANDARD
TZOFFSETFROM:-0300
TZOFFSETTO:-0400
TZNAME:AST
DTSTART:20271107T050000
END:STANDARD
END:VTIMEZONE
BEGIN:VEVENT
DTSTART;TZID=America/Halifax:20260127T100000
DTEND;TZID=America/Halifax:20260127T110000
DTSTAMP:20260422T080716
CREATED:20260105T190938Z
LAST-MODIFIED:20260105T191523Z
UID:10000130-1769508000-1769511600@communitybridgesinc.org
SUMMARY:CBI Overview
DESCRIPTION:This 30-minute presentation will review CBI programs and services and provide resources for the community. \nDate: Tuesday\, January 27th\, 2026 \nTime: 10:00 AM – 11:00 AM MST \nLocation: Adams Elementary \nFor more information\, please email: communityeducation@cbridges.com
URL:https://communitybridgesinc.org/event/cbi-overview/
LOCATION:Adams Elementary
CATEGORIES:Community Events
END:VEVENT
END:VCALENDAR