BEGIN:VCALENDAR
VERSION:2.0
PRODID:-//CBI - ECPv6.15.20//NONSGML v1.0//EN
CALSCALE:GREGORIAN
METHOD:PUBLISH
X-WR-CALNAME:CBI
X-ORIGINAL-URL:https://communitybridgesinc.org
X-WR-CALDESC:Events for CBI
REFRESH-INTERVAL;VALUE=DURATION:PT1H
X-Robots-Tag:noindex
X-PUBLISHED-TTL:PT1H
BEGIN:VTIMEZONE
TZID:America/Halifax
BEGIN:DAYLIGHT
TZOFFSETFROM:-0400
TZOFFSETTO:-0300
TZNAME:ADT
DTSTART:20240310T060000
END:DAYLIGHT
BEGIN:STANDARD
TZOFFSETFROM:-0300
TZOFFSETTO:-0400
TZNAME:AST
DTSTART:20241103T050000
END:STANDARD
BEGIN:DAYLIGHT
TZOFFSETFROM:-0400
TZOFFSETTO:-0300
TZNAME:ADT
DTSTART:20250309T060000
END:DAYLIGHT
BEGIN:STANDARD
TZOFFSETFROM:-0300
TZOFFSETTO:-0400
TZNAME:AST
DTSTART:20251102T050000
END:STANDARD
BEGIN:DAYLIGHT
TZOFFSETFROM:-0400
TZOFFSETTO:-0300
TZNAME:ADT
DTSTART:20260308T060000
END:DAYLIGHT
BEGIN:STANDARD
TZOFFSETFROM:-0300
TZOFFSETTO:-0400
TZNAME:AST
DTSTART:20261101T050000
END:STANDARD
END:VTIMEZONE
BEGIN:VEVENT
DTSTART;TZID=America/Halifax:20251014T180000
DTEND;TZID=America/Halifax:20251014T193000
DTSTAMP:20260424T031310
CREATED:20251216T204212Z
LAST-MODIFIED:20251216T204212Z
UID:10000111-1760464800-1760470200@communitybridgesinc.org
SUMMARY:Overdose Prevention Talk
DESCRIPTION:We are partnering with Semicolon Society’s for a presentation on Overdose Prevention: Recognizing and Response. This presentation will discuss signs of drug use and crisis\, with a focus on Fentanyl\, as well as how to use Narcan in an emergency situation. Every attendee will receive a FREE Narcan mental health kit as well. \nDate:  Tuesday\, October 14th\, 2025 \nTime: 6:00 PM – 7:30 PM \nLocation: Chandler ASU Innovation Center\, 249 E. Chicago Street in Downtown Chandler \nTo register\, please email: communityeducation@cbridges.com
URL:https://communitybridgesinc.org/event/overdose-prevention-talk/
LOCATION:Chandler ASU Innovation Center\, 249 E. Chicago Street\, Chandler\, AZ\, United States
CATEGORIES:Community Events
END:VEVENT
END:VCALENDAR