BEGIN:VCALENDAR
VERSION:2.0
PRODID:-//CBI - ECPv6.15.20//NONSGML v1.0//EN
CALSCALE:GREGORIAN
METHOD:PUBLISH
X-ORIGINAL-URL:https://communitybridgesinc.org
X-WR-CALDESC:Events for CBI
REFRESH-INTERVAL;VALUE=DURATION:PT1H
X-Robots-Tag:noindex
X-PUBLISHED-TTL:PT1H
BEGIN:VTIMEZONE
TZID:UTC
BEGIN:STANDARD
TZOFFSETFROM:+0000
TZOFFSETTO:+0000
TZNAME:UTC
DTSTART:20240101T000000
END:STANDARD
END:VTIMEZONE
BEGIN:VEVENT
DTSTART;TZID=UTC:20250328T110000
DTEND;TZID=UTC:20250328T140000
DTSTAMP:20260422T114957
CREATED:20250321T171525Z
LAST-MODIFIED:20250321T171525Z
UID:10000068-1743159600-1743170400@communitybridgesinc.org
SUMMARY:DC Fellowship House Open House
DESCRIPTION:You’re invited to join CBI at our Fellowship Open House! \nDC SOR Recovery Residences offer safe living environments that promote safety\, recovery\, and harm reduction. These communities empower individuals by providing support as they transition toward living independent and productive lives in the community \nDate:  Friday\, March 28\, 2025 \nTime: 11:00 AM – 2:00 PM \nLocation: 5211 Clay St NE Washington\, DC 20019
URL:https://communitybridgesinc.org/event/dc-fellowship-house-open-house/
LOCATION:DC Fellowship House\, 5211 Clay St NE\, Washington\, DC\, 20019\, United States
CATEGORIES:Community Events
END:VEVENT
END:VCALENDAR