BEGIN:VCALENDAR
VERSION:2.0
PRODID:-//CBI - ECPv6.15.20//NONSGML v1.0//EN
CALSCALE:GREGORIAN
METHOD:PUBLISH
X-ORIGINAL-URL:https://communitybridgesinc.org
X-WR-CALDESC:Events for CBI
REFRESH-INTERVAL;VALUE=DURATION:PT1H
X-Robots-Tag:noindex
X-PUBLISHED-TTL:PT1H
BEGIN:VTIMEZONE
TZID:UTC
BEGIN:STANDARD
TZOFFSETFROM:+0000
TZOFFSETTO:+0000
TZNAME:UTC
DTSTART:20230101T000000
END:STANDARD
END:VTIMEZONE
BEGIN:VEVENT
DTSTART;VALUE=DATE:20240501
DTEND;VALUE=DATE:20240502
DTSTAMP:20260422T110855
CREATED:20240427T045128Z
LAST-MODIFIED:20240501T032234Z
UID:10000014-1714521600-1714607999@communitybridgesinc.org
SUMMARY:Heat Relief in Partnership with the City of Phoenix
DESCRIPTION:This is the opening of the Heat Relief program that is in partnership with the City of Phoenix. \nBurton Barr Library: Open 24/7 \nPhoenix Senior Center: Open 5:30 pm – 5:30 am \nCholla Library: Open 7 days a week from 5 pm – 10 pm \nHarmon Library: Open 7 days a week from 5 pm – 10 pm \nYucca Library: Open 7 days a week from 5 pm – 10 pm
URL:https://communitybridgesinc.org/event/heat-relief-in-partnership-with-the-city-of-phoenix-4/
LOCATION:Yucca Library\, 5648 N 15th Ave\, Phoenix\, Arizona\, 85015
CATEGORIES:Community Events
END:VEVENT
END:VCALENDAR