BEGIN:VCALENDAR
VERSION:2.0
PRODID:-//CBI - ECPv6.15.20//NONSGML v1.0//EN
CALSCALE:GREGORIAN
METHOD:PUBLISH
X-ORIGINAL-URL:https://communitybridgesinc.org
X-WR-CALDESC:Events for CBI
REFRESH-INTERVAL;VALUE=DURATION:PT1H
X-Robots-Tag:noindex
X-PUBLISHED-TTL:PT1H
BEGIN:VTIMEZONE
TZID:America/Halifax
BEGIN:DAYLIGHT
TZOFFSETFROM:-0400
TZOFFSETTO:-0300
TZNAME:ADT
DTSTART:20240310T060000
END:DAYLIGHT
BEGIN:STANDARD
TZOFFSETFROM:-0300
TZOFFSETTO:-0400
TZNAME:AST
DTSTART:20241103T050000
END:STANDARD
BEGIN:DAYLIGHT
TZOFFSETFROM:-0400
TZOFFSETTO:-0300
TZNAME:ADT
DTSTART:20250309T060000
END:DAYLIGHT
BEGIN:STANDARD
TZOFFSETFROM:-0300
TZOFFSETTO:-0400
TZNAME:AST
DTSTART:20251102T050000
END:STANDARD
BEGIN:DAYLIGHT
TZOFFSETFROM:-0400
TZOFFSETTO:-0300
TZNAME:ADT
DTSTART:20260308T060000
END:DAYLIGHT
BEGIN:STANDARD
TZOFFSETFROM:-0300
TZOFFSETTO:-0400
TZNAME:AST
DTSTART:20261101T050000
END:STANDARD
END:VTIMEZONE
BEGIN:VEVENT
DTSTART;TZID=America/Halifax:20251025T100000
DTEND;TZID=America/Halifax:20251025T140000
DTSTAMP:20260423T070306
CREATED:20251216T204641Z
LAST-MODIFIED:20251216T204641Z
UID:10000112-1761386400-1761400800@communitybridgesinc.org
SUMMARY:DEA Take Back Day
DESCRIPTION:Join us for a fun FREE FAMILY EVENT\, gathering treats and community resources! \nDate:  Saturday\, October 25th\, 2025 \nTime: 10:00 AM – 2:00 PM \nLocation: Walgreens 1130 W. Southern Ave.\, Mesa 85210 \nFor more information\, please email: communityeducation@cbridges.com
URL:https://communitybridgesinc.org/event/dea-take-back-day/
LOCATION:Walgreens\, 1130 W. Southern Ave\, Mesa\, 85210\, United States
CATEGORIES:Community Events
END:VEVENT
END:VCALENDAR